BEGIN:VCALENDAR
VERSION:2.0
PRODID:-//Island Pickle Pub - ECPv6.15.20//NONSGML v1.0//EN
CALSCALE:GREGORIAN
METHOD:PUBLISH
X-WR-CALNAME:Island Pickle Pub
X-ORIGINAL-URL:https://islandpicklepub.com
X-WR-CALDESC:Events for Island Pickle Pub
REFRESH-INTERVAL;VALUE=DURATION:PT1H
X-Robots-Tag:noindex
X-PUBLISHED-TTL:PT1H
BEGIN:VTIMEZONE
TZID:America/New_York
BEGIN:DAYLIGHT
TZOFFSETFROM:-0500
TZOFFSETTO:-0400
TZNAME:EDT
DTSTART:20250309T070000
END:DAYLIGHT
BEGIN:STANDARD
TZOFFSETFROM:-0400
TZOFFSETTO:-0500
TZNAME:EST
DTSTART:20251102T060000
END:STANDARD
BEGIN:DAYLIGHT
TZOFFSETFROM:-0500
TZOFFSETTO:-0400
TZNAME:EDT
DTSTART:20260308T070000
END:DAYLIGHT
BEGIN:STANDARD
TZOFFSETFROM:-0400
TZOFFSETTO:-0500
TZNAME:EST
DTSTART:20261101T060000
END:STANDARD
BEGIN:DAYLIGHT
TZOFFSETFROM:-0500
TZOFFSETTO:-0400
TZNAME:EDT
DTSTART:20270314T070000
END:DAYLIGHT
BEGIN:STANDARD
TZOFFSETFROM:-0400
TZOFFSETTO:-0500
TZNAME:EST
DTSTART:20271107T060000
END:STANDARD
END:VTIMEZONE
BEGIN:VEVENT
DTSTART;TZID=America/New_York:20260502T160000
DTEND;TZID=America/New_York:20260502T200000
DTSTAMP:20260424T212335
CREATED:20260320T142917Z
LAST-MODIFIED:20260421T200314Z
UID:10000822-1777737600-1777752000@islandpicklepub.com
SUMMARY:Kentucky Derby Watch Party
DESCRIPTION:Join us on the Island for the Kentucky Derby Watch Party! \nBulleit Bourbon will be here from 4:00-6:00pm with tastings\, special cocktails\, swag giveaways and lots more fun. Dress in your best Kentucky Derby-inspired outfits and compete in our “Best Dressed” awards. Island Pickle will be running other Kentucky Derby-inspired food and drink specials. Get in the Island Pickle Kentucky Derby “Blind Draw” pool for a chance to win prizes! \n \n 
URL:https://islandpicklepub.com/event/kentucky-derby/
END:VEVENT
BEGIN:VEVENT
DTSTART;TZID=America/New_York:20260514T180000
DTEND;TZID=America/New_York:20260514T210000
DTSTAMP:20260424T212335
CREATED:20260422T203434Z
LAST-MODIFIED:20260422T203531Z
UID:10001691-1778781600-1778792400@islandpicklepub.com
SUMMARY:Island Pickle Members Dinner
DESCRIPTION:SAVE THE DATE\nJoin us for our inagural Island Pickle Members Dinner. This all inclusive dinner will feature a 3 course\, island inspired menu from Chef’s Nick and Shane. Pricing\, tickets and reservations to come shortly – stay tuned!
URL:https://islandpicklepub.com/event/island-pickle-members-dinner/
END:VEVENT
END:VCALENDAR